BEGIN:VCALENDAR
PRODID:-//ON24 Corporation//ON24 Corporation//EN
VERSION:2.0
METHOD:PUBLISH
BEGIN:VEVENT
DTSTART:20221122T113000Z
DTEND:20221122T123000Z
LOCATION:Event
TRANSP:OPAQUE
UID:121459675120221018T200500Z
DTSTAMP:20221018T200542Z
SUMMARY:How To Create a Data Mesh That’s Right for You
DESCRIPTION:Thank you for registering for How To Create a Data Mesh That’s Right for You. \n\nLIVE EVENT DATE:  November 22, 2022 \nLIVE EVENT TIME:  11:30 AM GMT \n\nUse the link below to enter the event up to 15 minutes before the start. \n\nEVENT LINK:  https://event.on24.com/wcc/r/3996379/31E68B7C51CB5BE45FD6EC55A5EC7037 \n\n\nThank you and enjoy the event!
PRIORITY:5
CLASS:PUBLIC
BEGIN:VALARM
TRIGGER:-PT15M
ACTION:DISPLAY
title:Reminder
END:VALARM
END:VEVENT
END:VCALENDAR

